BEGIN:VCALENDAR
VERSION:2.0
PRODID:-//The Vale - ECPv6.15.20//NONSGML v1.0//EN
CALSCALE:GREGORIAN
METHOD:PUBLISH
X-ORIGINAL-URL:https://the-vale.co.uk
X-WR-CALDESC:Events for The Vale
REFRESH-INTERVAL;VALUE=DURATION:PT1H
X-Robots-Tag:noindex
X-PUBLISHED-TTL:PT1H
BEGIN:VTIMEZONE
TZID:Europe/London
BEGIN:DAYLIGHT
TZOFFSETFROM:+0000
TZOFFSETTO:+0100
TZNAME:BST
DTSTART:20230326T010000
END:DAYLIGHT
BEGIN:STANDARD
TZOFFSETFROM:+0100
TZOFFSETTO:+0000
TZNAME:GMT
DTSTART:20231029T010000
END:STANDARD
BEGIN:DAYLIGHT
TZOFFSETFROM:+0000
TZOFFSETTO:+0100
TZNAME:BST
DTSTART:20240331T010000
END:DAYLIGHT
BEGIN:STANDARD
TZOFFSETFROM:+0100
TZOFFSETTO:+0000
TZNAME:GMT
DTSTART:20241027T010000
END:STANDARD
BEGIN:DAYLIGHT
TZOFFSETFROM:+0000
TZOFFSETTO:+0100
TZNAME:BST
DTSTART:20250330T010000
END:DAYLIGHT
BEGIN:STANDARD
TZOFFSETFROM:+0100
TZOFFSETTO:+0000
TZNAME:GMT
DTSTART:20251026T010000
END:STANDARD
END:VTIMEZONE
BEGIN:VEVENT
DTSTART;TZID=Europe/London:20240114T130000
DTEND;TZID=Europe/London:20240114T160000
DTSTAMP:20260421T130121
CREATED:20230505T074306Z
LAST-MODIFIED:20240229T105918Z
UID:10000738-1705237200-1705248000@the-vale.co.uk
SUMMARY:Sunday Sessions
DESCRIPTION:Join us for an afternoon of fabulous live music at The Vale as part of our Monthly Sunday Sessions 1pm – 4pm. \nA relaxed afternoon of excellent live music in a welcome environment perfect for the whole family. Grab a drink from the bar\, bring some pals\, your kids\, sit and listen or maybe even join our house band for a number or two. And best of all its free! We hope to see you there! \nIf you’re interested in playing at our Sunday sessions then please do get in touch as we’d love to hear from you! \nOur house musicians will be playing a mixture of Latin and Brazilian vibes with an informal ‘Pagode’ style set with a unique Mossley flavour. \nWhat is Pagode? \nPagode is a type of samba originating in Rio de Janeiro\, Brazil. Distinguished by rhythmic improvisation\, its acoustic sound is created using a variety of percussion instruments\, song and string instruments such as Cavaquinho and guitar.\n \n 
URL:https://the-vale.co.uk/event/sunday-sessions/2024-01-14/
LOCATION:The Vale\, Unit 2 Vale Mill\, Micklehurst Road\, Mossley\, OL59JL\, United Kingdom
CATEGORIES:Participatory
ATTACH;FMTTYPE=image/jpeg:https://the-vale.co.uk/wp-content/uploads/2023/10/Sunday-webbanner.jpg
ORGANIZER;CN="The Vale":MAILTO:hello@the-vale.co.uk
GEO:53.514985;-2.02621
X-APPLE-STRUCTURED-LOCATION;VALUE=URI;X-ADDRESS=The Vale Unit 2 Vale Mill Micklehurst Road Mossley OL59JL United Kingdom;X-APPLE-RADIUS=500;X-TITLE=Unit 2 Vale Mill\, Micklehurst Road:geo:-2.02621,53.514985
END:VEVENT
BEGIN:VEVENT
DTSTART;TZID=Europe/London:20240116T193000
DTEND;TZID=Europe/London:20240116T213000
DTSTAMP:20260421T130121
CREATED:20220124T201120Z
LAST-MODIFIED:20260410T130051Z
UID:10000230-1705433400-1705440600@the-vale.co.uk
SUMMARY:Mossley Writers
DESCRIPTION:Mossley Writers at The Vale\nMossley Writers is a friendly\, inclusive writing group that meets on the third Tuesday of every month\, from 7.30pm to 9.30pm\, at The Vale. Writers of all backgrounds and at every stage of their writing journey are warmly welcomed. \nA typical session includes sharing and gently critiquing members’ work\, writing together using fun and thought provoking exercises\, and enjoying plenty of tea\, biscuits and conversation in a relaxed\, supportive atmosphere. \nIf you would like to find out more\, join the mailing list\, or receive writing to read and critique ahead of meetings\, please email mossleywriters@gmail.com. There is a small monthly fee to cover the hire of the space at The Vale. \nYou may also be interested in The Tameside WordShop\, a year long programme of free writing workshops for Tameside writers. \n 
URL:https://the-vale.co.uk/event/mossley-writers-2/2024-01-16/
LOCATION:The Vale\, Unit 2 Vale Mill\, Micklehurst Road\, Mossley\, OL59JL\, United Kingdom
CATEGORIES:Adult Themes,Participatory
ATTACH;FMTTYPE=image/png:https://the-vale.co.uk/wp-content/uploads/2021/11/Mossley-Writers-Stamp-01.png
ORGANIZER;CN="Mossley Writers":MAILTO:mossleywriters@gmail.com
GEO:53.514985;-2.02621
X-APPLE-STRUCTURED-LOCATION;VALUE=URI;X-ADDRESS=The Vale Unit 2 Vale Mill Micklehurst Road Mossley OL59JL United Kingdom;X-APPLE-RADIUS=500;X-TITLE=Unit 2 Vale Mill\, Micklehurst Road:geo:-2.02621,53.514985
END:VEVENT
BEGIN:VEVENT
DTSTART;TZID=Europe/London:20240125T130000
DTEND;TZID=Europe/London:20240125T140000
DTSTAMP:20260421T130121
CREATED:20240112T003123Z
LAST-MODIFIED:20240116T161048Z
UID:10000916-1706187600-1706191200@the-vale.co.uk
SUMMARY:Community Kurling
DESCRIPTION:Our kurling session is a team-based game that can be performed standing or seated. \nThe session is social and relaxed with plenty to do for all levels\, in a relaxed atmosphere with the emphasis of enjoying yourself. \nSession £3.00 per person \nFor more information contact the centre:\n01613664860/07923446387 \nor email:\nLiza.Ahmed.Chowdhury@activetameside.com
URL:https://the-vale.co.uk/event/community-kurling/
LOCATION:The Vale\, Unit 2 Vale Mill\, Micklehurst Road\, Mossley\, OL59JL\, United Kingdom
CATEGORIES:Participatory,wellbeing
ATTACH;FMTTYPE=image/jpeg:https://the-vale.co.uk/wp-content/uploads/2024/01/Kurling-Target-aspect-ratio-545-265-1.jpg
ORGANIZER;CN="The Vale":MAILTO:hello@the-vale.co.uk
GEO:53.514985;-2.02621
X-APPLE-STRUCTURED-LOCATION;VALUE=URI;X-ADDRESS=The Vale Unit 2 Vale Mill Micklehurst Road Mossley OL59JL United Kingdom;X-APPLE-RADIUS=500;X-TITLE=Unit 2 Vale Mill\, Micklehurst Road:geo:-2.02621,53.514985
END:VEVENT
END:VCALENDAR