BEGIN:VCALENDAR
VERSION:2.0
PRODID:-//The Vale - ECPv6.15.20//NONSGML v1.0//EN
CALSCALE:GREGORIAN
METHOD:PUBLISH
X-ORIGINAL-URL:https://the-vale.co.uk
X-WR-CALDESC:Events for The Vale
REFRESH-INTERVAL;VALUE=DURATION:PT1H
X-Robots-Tag:noindex
X-PUBLISHED-TTL:PT1H
BEGIN:VTIMEZONE
TZID:Europe/London
BEGIN:DAYLIGHT
TZOFFSETFROM:+0000
TZOFFSETTO:+0100
TZNAME:BST
DTSTART:20240331T010000
END:DAYLIGHT
BEGIN:STANDARD
TZOFFSETFROM:+0100
TZOFFSETTO:+0000
TZNAME:GMT
DTSTART:20241027T010000
END:STANDARD
BEGIN:DAYLIGHT
TZOFFSETFROM:+0000
TZOFFSETTO:+0100
TZNAME:BST
DTSTART:20250330T010000
END:DAYLIGHT
BEGIN:STANDARD
TZOFFSETFROM:+0100
TZOFFSETTO:+0000
TZNAME:GMT
DTSTART:20251026T010000
END:STANDARD
BEGIN:DAYLIGHT
TZOFFSETFROM:+0000
TZOFFSETTO:+0100
TZNAME:BST
DTSTART:20260329T010000
END:DAYLIGHT
BEGIN:STANDARD
TZOFFSETFROM:+0100
TZOFFSETTO:+0000
TZNAME:GMT
DTSTART:20261025T010000
END:STANDARD
END:VTIMEZONE
BEGIN:VEVENT
DTSTART;TZID=Europe/London:20251202T190000
DTEND;TZID=Europe/London:20251202T210000
DTSTAMP:20260422T224133
CREATED:20240609T135726Z
LAST-MODIFIED:20260205T175635Z
UID:10002007-1764702000-1764709200@the-vale.co.uk
SUMMARY:Brazilian Percussion Classes
DESCRIPTION:Drum at The Vale! \nJoin us every Tuesday evening for our weekly offering of Carnival activities here at The Vale in Mossley. \nMeet new music pals and further your skills\, all with a massive smile on your face as part of the Global Grooves Carnival community! \nPercussion classes are open to all abilities and experience levels. You’ll study and listen to a tantalising mix of percussion instruments in the sessions\, including surdo\, caixa\, repinique\, tamborim\, and more! \nPercussion instruments provided (feel free to bring yours along\, but please check with a Bloco tutor first). \nMembers aged 12-16 to be accompanied by an adult (Future Leaders alumni may come along unaccompanied). \nFor more information visit: www.globalgrooves.org/get-involved/courses-classes/gg-bloco/
URL:https://the-vale.co.uk/event/brazilian-percussion-classes/2025-12-02/
LOCATION:The Vale\, Unit 2 Vale Mill\, Micklehurst Road\, Mossley\, OL59JL\, United Kingdom
CATEGORIES:Children and Young People,Drumming,Live Music,Participatory,wellbeing
ATTACH;FMTTYPE=image/jpeg:https://the-vale.co.uk/wp-content/uploads/2024/06/Percussion.jpg
ORGANIZER;CN="Global Grooves":MAILTO:hello@globalgrooves.org
GEO:53.514985;-2.02621
X-APPLE-STRUCTURED-LOCATION;VALUE=URI;X-ADDRESS=The Vale Unit 2 Vale Mill Micklehurst Road Mossley OL59JL United Kingdom;X-APPLE-RADIUS=500;X-TITLE=Unit 2 Vale Mill\, Micklehurst Road:geo:-2.02621,53.514985
END:VEVENT
BEGIN:VEVENT
DTSTART;TZID=Europe/London:20251202T190000
DTEND;TZID=Europe/London:20251202T210000
DTSTAMP:20260422T224133
CREATED:20240609T140837Z
LAST-MODIFIED:20260205T175756Z
UID:10002530-1764702000-1764709200@the-vale.co.uk
SUMMARY:Street band & Brass Class
DESCRIPTION:Horns and melody at The Vale! \nJoin us Every Tuesday 7pm – 9pm for our weekly offering of horns and melody Carnival activities here at The Vale in Mossley. \nMeet new music pals and further your skills\, all with a massive smile on your face as part of the Global Grooves Carnival community! \nMelody players joining the project should have some experience. \nBring your instrument along! Brass\, woodwind and anything else welcome! \nMembers aged 12-16 to be accompanied by an adult (Future Leaders alumni may come along unaccompanied). \nFor more information visit: www.globalgrooves.org/get-involved/courses-classes/gg-bloco/
URL:https://the-vale.co.uk/event/street-band-brass-class/2025-12-02/
LOCATION:The Vale\, Unit 2 Vale Mill\, Micklehurst Road\, Mossley\, OL59JL\, United Kingdom
CATEGORIES:Children and Young People,Live Music,Participatory,wellbeing
ATTACH;FMTTYPE=image/jpeg:https://the-vale.co.uk/wp-content/uploads/2024/06/BRASS.jpg
ORGANIZER;CN="The Vale":MAILTO:hello@the-vale.co.uk
GEO:53.514985;-2.02621
X-APPLE-STRUCTURED-LOCATION;VALUE=URI;X-ADDRESS=The Vale Unit 2 Vale Mill Micklehurst Road Mossley OL59JL United Kingdom;X-APPLE-RADIUS=500;X-TITLE=Unit 2 Vale Mill\, Micklehurst Road:geo:-2.02621,53.514985
END:VEVENT
BEGIN:VEVENT
DTSTART;TZID=Europe/London:20251203T130000
DTEND;TZID=Europe/London:20251203T150000
DTSTAMP:20260422T224133
CREATED:20240609T133414Z
LAST-MODIFIED:20260205T190111Z
UID:10001746-1764766800-1764774000@the-vale.co.uk
SUMMARY:Free Artist Space
DESCRIPTION:Free Open Studio Sessions at The Vale\nEvery Wednesday from 1.00pm to 3.00pm\, The Vale opens up its studio spaces for artists and creatives to use completely free of charge. \nThese open sessions are designed to support creative practice in all its forms. Whether you are a sewer looking for access to a machine\, a sculptor needing space to spread out\, a musician in search of a quiet room to rehearse\, or a henna artist wanting somewhere comfortable to practise and develop your work\, you are very welcome here. \nThe atmosphere is relaxed and supportive\, offering time and space to focus\, experiment and make progress on your work. You can work independently\, or alongside other creatives\, sharing energy\, ideas and inspiration in a welcoming environment. \nIf you would like to use the space\, simply get in touch at hello@the-vale.co.uk to let us know what you need the studio for. This helps us make sure the right space\, equipment and setup are ready for you when you arrive. \nDrop in\, settle in\, and make The Vale your creative home for the afternoon.
URL:https://the-vale.co.uk/event/free-artist-space/2025-12-03/
LOCATION:The Vale\, Unit 2 Vale Mill\, Micklehurst Road\, Mossley\, OL59JL\, United Kingdom
CATEGORIES:Children and Young People,crafty,Dance,Drumming,Exhibitions,Live Music,Participatory,Theatre,Visual Arts,wellbeing
ATTACH;FMTTYPE=image/jpeg:https://the-vale.co.uk/wp-content/uploads/2024/06/FREE-ARTIST-SPACE-THE-VALE-WEDNESDAY.jpg
ORGANIZER;CN="The Vale":MAILTO:hello@the-vale.co.uk
GEO:53.514985;-2.02621
X-APPLE-STRUCTURED-LOCATION;VALUE=URI;X-ADDRESS=The Vale Unit 2 Vale Mill Micklehurst Road Mossley OL59JL United Kingdom;X-APPLE-RADIUS=500;X-TITLE=Unit 2 Vale Mill\, Micklehurst Road:geo:-2.02621,53.514985
END:VEVENT
BEGIN:VEVENT
DTSTART;TZID=Europe/London:20251205T191500
DTEND;TZID=Europe/London:20251205T211500
DTSTAMP:20260422T224133
CREATED:20240609T130818Z
LAST-MODIFIED:20250908T112140Z
UID:10001425-1764962100-1764969300@the-vale.co.uk
SUMMARY:Abney Orchestra
DESCRIPTION:Abney Orchestra rehearse at The Vale every Friday evening. They are a fun\, friendly\, community orchestra\, playing light classics and popular film music. They are always looking for new members – no auditions – all ages and abilities welcome.  \nCome along and join their rehearsal on Friday evenings 7:15pm – 9:15pm.\n \nFor more information and to check their schedule you can visit their website: www.abneyorchestra.org
URL:https://the-vale.co.uk/event/abney-orchestra/2025-12-05/
LOCATION:The Vale\, Unit 2 Vale Mill\, Micklehurst Road\, Mossley\, OL59JL\, United Kingdom
CATEGORIES:Live Music,Participatory
ATTACH;FMTTYPE=image/jpeg:https://the-vale.co.uk/wp-content/uploads/2024/06/abney-logo.jpg
ORGANIZER;CN="The Vale":MAILTO:hello@the-vale.co.uk
GEO:53.514985;-2.02621
X-APPLE-STRUCTURED-LOCATION;VALUE=URI;X-ADDRESS=The Vale Unit 2 Vale Mill Micklehurst Road Mossley OL59JL United Kingdom;X-APPLE-RADIUS=500;X-TITLE=Unit 2 Vale Mill\, Micklehurst Road:geo:-2.02621,53.514985
END:VEVENT
BEGIN:VEVENT
DTSTART;TZID=Europe/London:20251209T190000
DTEND;TZID=Europe/London:20251209T210000
DTSTAMP:20260422T224133
CREATED:20240609T135726Z
LAST-MODIFIED:20260205T175635Z
UID:10002008-1765306800-1765314000@the-vale.co.uk
SUMMARY:Brazilian Percussion Classes
DESCRIPTION:Drum at The Vale! \nJoin us every Tuesday evening for our weekly offering of Carnival activities here at The Vale in Mossley. \nMeet new music pals and further your skills\, all with a massive smile on your face as part of the Global Grooves Carnival community! \nPercussion classes are open to all abilities and experience levels. You’ll study and listen to a tantalising mix of percussion instruments in the sessions\, including surdo\, caixa\, repinique\, tamborim\, and more! \nPercussion instruments provided (feel free to bring yours along\, but please check with a Bloco tutor first). \nMembers aged 12-16 to be accompanied by an adult (Future Leaders alumni may come along unaccompanied). \nFor more information visit: www.globalgrooves.org/get-involved/courses-classes/gg-bloco/
URL:https://the-vale.co.uk/event/brazilian-percussion-classes/2025-12-09/
LOCATION:The Vale\, Unit 2 Vale Mill\, Micklehurst Road\, Mossley\, OL59JL\, United Kingdom
CATEGORIES:Children and Young People,Drumming,Live Music,Participatory,wellbeing
ATTACH;FMTTYPE=image/jpeg:https://the-vale.co.uk/wp-content/uploads/2024/06/Percussion.jpg
ORGANIZER;CN="Global Grooves":MAILTO:hello@globalgrooves.org
GEO:53.514985;-2.02621
X-APPLE-STRUCTURED-LOCATION;VALUE=URI;X-ADDRESS=The Vale Unit 2 Vale Mill Micklehurst Road Mossley OL59JL United Kingdom;X-APPLE-RADIUS=500;X-TITLE=Unit 2 Vale Mill\, Micklehurst Road:geo:-2.02621,53.514985
END:VEVENT
BEGIN:VEVENT
DTSTART;TZID=Europe/London:20251209T190000
DTEND;TZID=Europe/London:20251209T210000
DTSTAMP:20260422T224133
CREATED:20240609T140837Z
LAST-MODIFIED:20260205T175756Z
UID:10002531-1765306800-1765314000@the-vale.co.uk
SUMMARY:Street band & Brass Class
DESCRIPTION:Horns and melody at The Vale! \nJoin us Every Tuesday 7pm – 9pm for our weekly offering of horns and melody Carnival activities here at The Vale in Mossley. \nMeet new music pals and further your skills\, all with a massive smile on your face as part of the Global Grooves Carnival community! \nMelody players joining the project should have some experience. \nBring your instrument along! Brass\, woodwind and anything else welcome! \nMembers aged 12-16 to be accompanied by an adult (Future Leaders alumni may come along unaccompanied). \nFor more information visit: www.globalgrooves.org/get-involved/courses-classes/gg-bloco/
URL:https://the-vale.co.uk/event/street-band-brass-class/2025-12-09/
LOCATION:The Vale\, Unit 2 Vale Mill\, Micklehurst Road\, Mossley\, OL59JL\, United Kingdom
CATEGORIES:Children and Young People,Live Music,Participatory,wellbeing
ATTACH;FMTTYPE=image/jpeg:https://the-vale.co.uk/wp-content/uploads/2024/06/BRASS.jpg
ORGANIZER;CN="The Vale":MAILTO:hello@the-vale.co.uk
GEO:53.514985;-2.02621
X-APPLE-STRUCTURED-LOCATION;VALUE=URI;X-ADDRESS=The Vale Unit 2 Vale Mill Micklehurst Road Mossley OL59JL United Kingdom;X-APPLE-RADIUS=500;X-TITLE=Unit 2 Vale Mill\, Micklehurst Road:geo:-2.02621,53.514985
END:VEVENT
BEGIN:VEVENT
DTSTART;TZID=Europe/London:20251210T130000
DTEND;TZID=Europe/London:20251210T150000
DTSTAMP:20260422T224133
CREATED:20240609T133414Z
LAST-MODIFIED:20260205T190111Z
UID:10001747-1765371600-1765378800@the-vale.co.uk
SUMMARY:Free Artist Space
DESCRIPTION:Free Open Studio Sessions at The Vale\nEvery Wednesday from 1.00pm to 3.00pm\, The Vale opens up its studio spaces for artists and creatives to use completely free of charge. \nThese open sessions are designed to support creative practice in all its forms. Whether you are a sewer looking for access to a machine\, a sculptor needing space to spread out\, a musician in search of a quiet room to rehearse\, or a henna artist wanting somewhere comfortable to practise and develop your work\, you are very welcome here. \nThe atmosphere is relaxed and supportive\, offering time and space to focus\, experiment and make progress on your work. You can work independently\, or alongside other creatives\, sharing energy\, ideas and inspiration in a welcoming environment. \nIf you would like to use the space\, simply get in touch at hello@the-vale.co.uk to let us know what you need the studio for. This helps us make sure the right space\, equipment and setup are ready for you when you arrive. \nDrop in\, settle in\, and make The Vale your creative home for the afternoon.
URL:https://the-vale.co.uk/event/free-artist-space/2025-12-10/
LOCATION:The Vale\, Unit 2 Vale Mill\, Micklehurst Road\, Mossley\, OL59JL\, United Kingdom
CATEGORIES:Children and Young People,crafty,Dance,Drumming,Exhibitions,Live Music,Participatory,Theatre,Visual Arts,wellbeing
ATTACH;FMTTYPE=image/jpeg:https://the-vale.co.uk/wp-content/uploads/2024/06/FREE-ARTIST-SPACE-THE-VALE-WEDNESDAY.jpg
ORGANIZER;CN="The Vale":MAILTO:hello@the-vale.co.uk
GEO:53.514985;-2.02621
X-APPLE-STRUCTURED-LOCATION;VALUE=URI;X-ADDRESS=The Vale Unit 2 Vale Mill Micklehurst Road Mossley OL59JL United Kingdom;X-APPLE-RADIUS=500;X-TITLE=Unit 2 Vale Mill\, Micklehurst Road:geo:-2.02621,53.514985
END:VEVENT
BEGIN:VEVENT
DTSTART;TZID=Europe/London:20251212T191500
DTEND;TZID=Europe/London:20251212T211500
DTSTAMP:20260422T224133
CREATED:20240609T130818Z
LAST-MODIFIED:20250908T112140Z
UID:10001426-1765566900-1765574100@the-vale.co.uk
SUMMARY:Abney Orchestra
DESCRIPTION:Abney Orchestra rehearse at The Vale every Friday evening. They are a fun\, friendly\, community orchestra\, playing light classics and popular film music. They are always looking for new members – no auditions – all ages and abilities welcome.  \nCome along and join their rehearsal on Friday evenings 7:15pm – 9:15pm.\n \nFor more information and to check their schedule you can visit their website: www.abneyorchestra.org
URL:https://the-vale.co.uk/event/abney-orchestra/2025-12-12/
LOCATION:The Vale\, Unit 2 Vale Mill\, Micklehurst Road\, Mossley\, OL59JL\, United Kingdom
CATEGORIES:Live Music,Participatory
ATTACH;FMTTYPE=image/jpeg:https://the-vale.co.uk/wp-content/uploads/2024/06/abney-logo.jpg
ORGANIZER;CN="The Vale":MAILTO:hello@the-vale.co.uk
GEO:53.514985;-2.02621
X-APPLE-STRUCTURED-LOCATION;VALUE=URI;X-ADDRESS=The Vale Unit 2 Vale Mill Micklehurst Road Mossley OL59JL United Kingdom;X-APPLE-RADIUS=500;X-TITLE=Unit 2 Vale Mill\, Micklehurst Road:geo:-2.02621,53.514985
END:VEVENT
BEGIN:VEVENT
DTSTART;TZID=Europe/London:20251212T193000
DTEND;TZID=Europe/London:20251212T233000
DTSTAMP:20260422T224133
CREATED:20250818T114150Z
LAST-MODIFIED:20251205T203452Z
UID:10003446-1765567800-1765582200@the-vale.co.uk
SUMMARY:Monster Ceilidh Band - The Vale’s Big Festive Party Night
DESCRIPTION:The Vale’s Big Festive Party Night!\nKick off your festive season with a full throttle celebration at The Vale. \nWe are thrilled to welcome Monster Ceilidh Band to the Vale for a high energy night of live music\, dancing and winter cheer. \nMonster Ceilidh Band bring an irresistible mix of folk tunes\, electro beats and high-energy performance that creates a huge party atmosphere from the moment they hit the stage. \nExpect foot-stomping tunes\, big festival energy and plenty of space to let loose on the dancefloor. This is a party for everyone. Come for the music\, come for the dancing\, or simply come to kick off the festive season with friends and family. \nDJ Jason Rushton will keep the energy flowing throughout the evening spinning the tunes until late. \nhttps://monsterceilidhband.co.uk/ \n \nPlease note this event has an age restriction of 14+ \nUnder 18s must be accompanied by an adult. \nDoors 7:30pm \nTickets £15* \nThis is a standing show. If you require a seat for accessibility please get in touch before the show via hello@the-vale.co.uk \n*A limited number of donate what you can tickets are available on a first come first served basis. We respect our audience’s privacy to choose the right ticket for their financial circumstances\, no evidence required.”
URL:https://the-vale.co.uk/event/monster-ceilidh-band/
LOCATION:The Vale\, Unit 2 Vale Mill\, Micklehurst Road\, Mossley\, OL59JL\, United Kingdom
CATEGORIES:gig,Live Music,ticket
ATTACH;FMTTYPE=image/jpeg:https://the-vale.co.uk/wp-content/uploads/2025/08/Monster-Ceilidh-Band-Festive.jpg
GEO:53.514985;-2.02621
X-APPLE-STRUCTURED-LOCATION;VALUE=URI;X-ADDRESS=The Vale Unit 2 Vale Mill Micklehurst Road Mossley OL59JL United Kingdom;X-APPLE-RADIUS=500;X-TITLE=Unit 2 Vale Mill\, Micklehurst Road:geo:-2.02621,53.514985
END:VEVENT
BEGIN:VEVENT
DTSTART;TZID=Europe/London:20251217T130000
DTEND;TZID=Europe/London:20251217T150000
DTSTAMP:20260422T224133
CREATED:20240609T133414Z
LAST-MODIFIED:20260205T190111Z
UID:10001748-1765976400-1765983600@the-vale.co.uk
SUMMARY:Free Artist Space
DESCRIPTION:Free Open Studio Sessions at The Vale\nEvery Wednesday from 1.00pm to 3.00pm\, The Vale opens up its studio spaces for artists and creatives to use completely free of charge. \nThese open sessions are designed to support creative practice in all its forms. Whether you are a sewer looking for access to a machine\, a sculptor needing space to spread out\, a musician in search of a quiet room to rehearse\, or a henna artist wanting somewhere comfortable to practise and develop your work\, you are very welcome here. \nThe atmosphere is relaxed and supportive\, offering time and space to focus\, experiment and make progress on your work. You can work independently\, or alongside other creatives\, sharing energy\, ideas and inspiration in a welcoming environment. \nIf you would like to use the space\, simply get in touch at hello@the-vale.co.uk to let us know what you need the studio for. This helps us make sure the right space\, equipment and setup are ready for you when you arrive. \nDrop in\, settle in\, and make The Vale your creative home for the afternoon.
URL:https://the-vale.co.uk/event/free-artist-space/2025-12-17/
LOCATION:The Vale\, Unit 2 Vale Mill\, Micklehurst Road\, Mossley\, OL59JL\, United Kingdom
CATEGORIES:Children and Young People,crafty,Dance,Drumming,Exhibitions,Live Music,Participatory,Theatre,Visual Arts,wellbeing
ATTACH;FMTTYPE=image/jpeg:https://the-vale.co.uk/wp-content/uploads/2024/06/FREE-ARTIST-SPACE-THE-VALE-WEDNESDAY.jpg
ORGANIZER;CN="The Vale":MAILTO:hello@the-vale.co.uk
GEO:53.514985;-2.02621
X-APPLE-STRUCTURED-LOCATION;VALUE=URI;X-ADDRESS=The Vale Unit 2 Vale Mill Micklehurst Road Mossley OL59JL United Kingdom;X-APPLE-RADIUS=500;X-TITLE=Unit 2 Vale Mill\, Micklehurst Road:geo:-2.02621,53.514985
END:VEVENT
BEGIN:VEVENT
DTSTART;TZID=Europe/London:20251219T191500
DTEND;TZID=Europe/London:20251219T211500
DTSTAMP:20260422T224133
CREATED:20240609T130818Z
LAST-MODIFIED:20250908T112140Z
UID:10001427-1766171700-1766178900@the-vale.co.uk
SUMMARY:Abney Orchestra
DESCRIPTION:Abney Orchestra rehearse at The Vale every Friday evening. They are a fun\, friendly\, community orchestra\, playing light classics and popular film music. They are always looking for new members – no auditions – all ages and abilities welcome.  \nCome along and join their rehearsal on Friday evenings 7:15pm – 9:15pm.\n \nFor more information and to check their schedule you can visit their website: www.abneyorchestra.org
URL:https://the-vale.co.uk/event/abney-orchestra/2025-12-19/
LOCATION:The Vale\, Unit 2 Vale Mill\, Micklehurst Road\, Mossley\, OL59JL\, United Kingdom
CATEGORIES:Live Music,Participatory
ATTACH;FMTTYPE=image/jpeg:https://the-vale.co.uk/wp-content/uploads/2024/06/abney-logo.jpg
ORGANIZER;CN="The Vale":MAILTO:hello@the-vale.co.uk
GEO:53.514985;-2.02621
X-APPLE-STRUCTURED-LOCATION;VALUE=URI;X-ADDRESS=The Vale Unit 2 Vale Mill Micklehurst Road Mossley OL59JL United Kingdom;X-APPLE-RADIUS=500;X-TITLE=Unit 2 Vale Mill\, Micklehurst Road:geo:-2.02621,53.514985
END:VEVENT
BEGIN:VEVENT
DTSTART;TZID=Europe/London:20251224T130000
DTEND;TZID=Europe/London:20251224T150000
DTSTAMP:20260422T224133
CREATED:20240609T133414Z
LAST-MODIFIED:20260205T190111Z
UID:10001749-1766581200-1766588400@the-vale.co.uk
SUMMARY:Free Artist Space
DESCRIPTION:Free Open Studio Sessions at The Vale\nEvery Wednesday from 1.00pm to 3.00pm\, The Vale opens up its studio spaces for artists and creatives to use completely free of charge. \nThese open sessions are designed to support creative practice in all its forms. Whether you are a sewer looking for access to a machine\, a sculptor needing space to spread out\, a musician in search of a quiet room to rehearse\, or a henna artist wanting somewhere comfortable to practise and develop your work\, you are very welcome here. \nThe atmosphere is relaxed and supportive\, offering time and space to focus\, experiment and make progress on your work. You can work independently\, or alongside other creatives\, sharing energy\, ideas and inspiration in a welcoming environment. \nIf you would like to use the space\, simply get in touch at hello@the-vale.co.uk to let us know what you need the studio for. This helps us make sure the right space\, equipment and setup are ready for you when you arrive. \nDrop in\, settle in\, and make The Vale your creative home for the afternoon.
URL:https://the-vale.co.uk/event/free-artist-space/2025-12-24/
LOCATION:The Vale\, Unit 2 Vale Mill\, Micklehurst Road\, Mossley\, OL59JL\, United Kingdom
CATEGORIES:Children and Young People,crafty,Dance,Drumming,Exhibitions,Live Music,Participatory,Theatre,Visual Arts,wellbeing
ATTACH;FMTTYPE=image/jpeg:https://the-vale.co.uk/wp-content/uploads/2024/06/FREE-ARTIST-SPACE-THE-VALE-WEDNESDAY.jpg
ORGANIZER;CN="The Vale":MAILTO:hello@the-vale.co.uk
GEO:53.514985;-2.02621
X-APPLE-STRUCTURED-LOCATION;VALUE=URI;X-ADDRESS=The Vale Unit 2 Vale Mill Micklehurst Road Mossley OL59JL United Kingdom;X-APPLE-RADIUS=500;X-TITLE=Unit 2 Vale Mill\, Micklehurst Road:geo:-2.02621,53.514985
END:VEVENT
BEGIN:VEVENT
DTSTART;TZID=Europe/London:20251226T191500
DTEND;TZID=Europe/London:20251226T211500
DTSTAMP:20260422T224133
CREATED:20240609T130818Z
LAST-MODIFIED:20250908T112140Z
UID:10001428-1766776500-1766783700@the-vale.co.uk
SUMMARY:Abney Orchestra
DESCRIPTION:Abney Orchestra rehearse at The Vale every Friday evening. They are a fun\, friendly\, community orchestra\, playing light classics and popular film music. They are always looking for new members – no auditions – all ages and abilities welcome.  \nCome along and join their rehearsal on Friday evenings 7:15pm – 9:15pm.\n \nFor more information and to check their schedule you can visit their website: www.abneyorchestra.org
URL:https://the-vale.co.uk/event/abney-orchestra/2025-12-26/
LOCATION:The Vale\, Unit 2 Vale Mill\, Micklehurst Road\, Mossley\, OL59JL\, United Kingdom
CATEGORIES:Live Music,Participatory
ATTACH;FMTTYPE=image/jpeg:https://the-vale.co.uk/wp-content/uploads/2024/06/abney-logo.jpg
ORGANIZER;CN="The Vale":MAILTO:hello@the-vale.co.uk
GEO:53.514985;-2.02621
X-APPLE-STRUCTURED-LOCATION;VALUE=URI;X-ADDRESS=The Vale Unit 2 Vale Mill Micklehurst Road Mossley OL59JL United Kingdom;X-APPLE-RADIUS=500;X-TITLE=Unit 2 Vale Mill\, Micklehurst Road:geo:-2.02621,53.514985
END:VEVENT
BEGIN:VEVENT
DTSTART;TZID=Europe/London:20251231T130000
DTEND;TZID=Europe/London:20251231T150000
DTSTAMP:20260422T224133
CREATED:20240609T133414Z
LAST-MODIFIED:20260205T190111Z
UID:10001750-1767186000-1767193200@the-vale.co.uk
SUMMARY:Free Artist Space
DESCRIPTION:Free Open Studio Sessions at The Vale\nEvery Wednesday from 1.00pm to 3.00pm\, The Vale opens up its studio spaces for artists and creatives to use completely free of charge. \nThese open sessions are designed to support creative practice in all its forms. Whether you are a sewer looking for access to a machine\, a sculptor needing space to spread out\, a musician in search of a quiet room to rehearse\, or a henna artist wanting somewhere comfortable to practise and develop your work\, you are very welcome here. \nThe atmosphere is relaxed and supportive\, offering time and space to focus\, experiment and make progress on your work. You can work independently\, or alongside other creatives\, sharing energy\, ideas and inspiration in a welcoming environment. \nIf you would like to use the space\, simply get in touch at hello@the-vale.co.uk to let us know what you need the studio for. This helps us make sure the right space\, equipment and setup are ready for you when you arrive. \nDrop in\, settle in\, and make The Vale your creative home for the afternoon.
URL:https://the-vale.co.uk/event/free-artist-space/2025-12-31/
LOCATION:The Vale\, Unit 2 Vale Mill\, Micklehurst Road\, Mossley\, OL59JL\, United Kingdom
CATEGORIES:Children and Young People,crafty,Dance,Drumming,Exhibitions,Live Music,Participatory,Theatre,Visual Arts,wellbeing
ATTACH;FMTTYPE=image/jpeg:https://the-vale.co.uk/wp-content/uploads/2024/06/FREE-ARTIST-SPACE-THE-VALE-WEDNESDAY.jpg
ORGANIZER;CN="The Vale":MAILTO:hello@the-vale.co.uk
GEO:53.514985;-2.02621
X-APPLE-STRUCTURED-LOCATION;VALUE=URI;X-ADDRESS=The Vale Unit 2 Vale Mill Micklehurst Road Mossley OL59JL United Kingdom;X-APPLE-RADIUS=500;X-TITLE=Unit 2 Vale Mill\, Micklehurst Road:geo:-2.02621,53.514985
END:VEVENT
END:VCALENDAR